View In:
ArcGIS JavaScript
ArcGIS Online Map Viewer
ArcGIS Earth
ArcMap
ArcGIS Pro
View Footprint In:
ArcGIS Online Map Viewer
Service Description:
Map Name: BasemapsSubakBekutelBangli
Legend
All Layers and Tables
Layers:
Description:
Service Item Id: 804e54a0054547e491c55c71d93ec470
Copyright Text:
Spatial Reference:
102100
(3857)
Single Fused Map Cache: true
Tile Info:
- Height: 256
- Width: 256
- DPI: 96
-
Levels of Detail: 24
-
Level ID: 1
[ Start Tile, End Tile ]
- Resolution: 78271.5169639999
- Scale: 2.95828763795777E8
-
Level ID: 2
[ Start Tile, End Tile ]
- Resolution: 39135.7584820001
- Scale: 1.47914381897889E8
-
Level ID: 3
[ Start Tile, End Tile ]
- Resolution: 19567.8792409999
- Scale: 7.3957190948944E7
-
Level ID: 4
[ Start Tile, End Tile ]
- Resolution: 9783.93962049996
- Scale: 3.6978595474472E7
-
Level ID: 5
[ Start Tile, End Tile ]
- Resolution: 4891.96981024998
- Scale: 1.8489297737236E7
- Format: MIXED
- Compression Quality: 75.0
- Origin: X: -2.0037508342787E7
Y: 2.0037508342787E7
- Spatial Reference: 102100
(3857)
Storage Info:
- Storage Format: esriMapCacheStorageModeCompactV2
- Packet Size: 128
Initial Extent:
XMin: 1.2838069903767698E7
YMin: -948812.97497631
XMax: 1.2838938180635609E7
YMax: -947570.1268117018
Spatial Reference: 102100
(3857)
Full Extent:
XMin: 1.2838069903767698E7
YMin: -948812.97497631
XMax: 1.2838938180635609E7
YMax: -947570.1268117018
Spatial Reference: 102100
(3857)
Units: esriMeters
Supported Image Format Types:
Document Info:
Supports Dynamic Layers: false
Resampling: true
MaxRecordCount: 0
MaxImageHeight: 0
MaxImageWidth: 0
Supported Query Formats:
Supports Query Data Elements:
Min Scale: 36112
Max Scale: 100
Min LOD: 14
Max LOD: 20
Child Resources:
Info
Supported Operations:
QueryLegends
Return Updates